BEGIN:VCALENDAR
VERSION:2.0
PRODID:-//RQI Partners, LLC - ECPv6.15.20//NONSGML v1.0//EN
CALSCALE:GREGORIAN
METHOD:PUBLISH
X-ORIGINAL-URL:https://rqipartners.com
X-WR-CALDESC:Events for RQI Partners, LLC
REFRESH-INTERVAL;VALUE=DURATION:PT1H
X-Robots-Tag:noindex
X-PUBLISHED-TTL:PT1H
BEGIN:VTIMEZONE
TZID:America/Chicago
BEGIN:DAYLIGHT
TZOFFSETFROM:-0600
TZOFFSETTO:-0500
TZNAME:CDT
DTSTART:20230312T080000
END:DAYLIGHT
BEGIN:STANDARD
TZOFFSETFROM:-0500
TZOFFSETTO:-0600
TZNAME:CST
DTSTART:20231105T070000
END:STANDARD
BEGIN:DAYLIGHT
TZOFFSETFROM:-0600
TZOFFSETTO:-0500
TZNAME:CDT
DTSTART:20240310T080000
END:DAYLIGHT
BEGIN:STANDARD
TZOFFSETFROM:-0500
TZOFFSETTO:-0600
TZNAME:CST
DTSTART:20241103T070000
END:STANDARD
BEGIN:DAYLIGHT
TZOFFSETFROM:-0600
TZOFFSETTO:-0500
TZNAME:CDT
DTSTART:20250309T080000
END:DAYLIGHT
BEGIN:STANDARD
TZOFFSETFROM:-0500
TZOFFSETTO:-0600
TZNAME:CST
DTSTART:20251102T070000
END:STANDARD
END:VTIMEZONE
BEGIN:VEVENT
DTSTART;VALUE=DATE:20240927
DTEND;VALUE=DATE:20241002
DTSTAMP:20260422T054714
CREATED:20240315T034957Z
LAST-MODIFIED:20240415T215422Z
UID:11957-1727395200-1727827199@rqipartners.com
SUMMARY:2024 AAP National Conference & Exhibition Event
DESCRIPTION:[vc_row][vc_column][vc_column_text css=”.vc_custom_1710476562430{margin-bottom: 0px !important;}”]Join us in Orlando for the 2024 AAP National Conference & Exhibition. \nOrlando\, FL[/vc_column_text][/vc_column][/vc_row]
URL:https://rqipartners.com/event/2024-aap-national-conference-exhibition/
CATEGORIES:Collaboration Events
ATTACH;FMTTYPE=image/png:https://rqipartners.com/wp-content/uploads/nce-2024-logo.png
END:VEVENT
BEGIN:VEVENT
DTSTART;VALUE=DATE:20241028
DTEND;VALUE=DATE:20241031
DTSTAMP:20260422T054714
CREATED:20240828T042629Z
LAST-MODIFIED:20240828T043421Z
UID:12184-1730073600-1730332799@rqipartners.com
SUMMARY:2024 SUN Conference
DESCRIPTION:[vc_row][vc_column][vc_column_text css=”.vc_custom_1724819659197{margin-bottom: 0px !important;}”]\n2024 Vegas SUN Conference \nLas Vegas\, NV[/vc_column_text][/vc_column][/vc_row]
URL:https://rqipartners.com/event/2024-sun-conference/
CATEGORIES:Collaboration Events
ATTACH;FMTTYPE=image/png:https://rqipartners.com/wp-content/uploads/sun-simulation-user-network.png
END:VEVENT
BEGIN:VEVENT
DTSTART;VALUE=DATE:20241030
DTEND;VALUE=DATE:20241102
DTSTAMP:20260422T054714
CREATED:20240315T034120Z
LAST-MODIFIED:20240415T211531Z
UID:11955-1730246400-1730505599@rqipartners.com
SUMMARY:ANCC National Magnet Conference® Event
DESCRIPTION:Educate. Innovate. Celebrate.\nSave the dates for next year’s co-located ANCC National Magnet Conference® \nErnest N. Morial Convention Center\, New Orleans\, LA
URL:https://rqipartners.com/event/ancc-national-magnet-conference-2024/
CATEGORIES:National Shows Events
ATTACH;FMTTYPE=image/jpeg:https://rqipartners.com/wp-content/uploads/ancc.jpg
END:VEVENT
END:VCALENDAR